BEGIN:VCALENDAR
VERSION:2.0
PRODID:-//hacksw/handcal//NONSGML v1.0//EN
CALSCALE:GREGORIAN
BEGIN:VEVENT
LOCATION:ул Набережная 10\, конференц-зал гостиницы "AZIMUT Владивосток"
DESCRIPTION:Эволюция подходов к ведению пациента с СД 2 типа и высоким сердечно-сосудистым риском
DTSTART:20200213T160000Z
DTEND:20200213T000000Z
SUMMARY:Школа для терапевтов\, ВОП\, кардиологов и эндокринологов во Владивостоке в феврале 2020
URL;VALUE=URI:/events/SCHOOL/shkola_dlja_terapevtov_vop_kardiologov_i_endokrinologov_vo_vladivostoke_v_fevrale_2020
DTSTAMP:20260420T123344Z
UID:69e5f2f85a419
END:VEVENT
END:VCALENDAR