BEGIN:VCALENDAR
VERSION:2.0
PRODID:-//hacksw/handcal//NONSGML v1.0//EN
CALSCALE:GREGORIAN
BEGIN:VEVENT
LOCATION:г. Воронеж\, ул. Орджоникидзе\, 36а\, конференц-зал отеля Рамада Плаза
DESCRIPTION:Тема:&laquo\;Стратегия ведения коморбидного пациента с предиабетом&raquo\;
DTSTART:20191029T160000Z
DTEND:20191029T000000Z
SUMMARY:Школа для терапевтов и кардиологов в Воронеже в октябре 2019
URL;VALUE=URI:/events/SCHOOL/shkola_dlja_terapevtov_i_kardiologov_v_voronezhe_v_oktjabre_2019
DTSTAMP:20260420T120815Z
UID:69e5ecff18e91
END:VEVENT
END:VCALENDAR