BEGIN:VCALENDAR
VERSION:2.0
PRODID:-//hacksw/handcal//NONSGML v1.0//EN
CALSCALE:GREGORIAN
BEGIN:VEVENT
LOCATION:г.Иркутск\, ул. Чкалова\, 15\, конференц-зал отеля "Марриотт"
DESCRIPTION:Тема:&laquo\;Современные алгоритмы ведения пациента с дислипидемией\, риском внезапной смерти\, фибрилляцией предсердий&raquo\;
DTSTART:20190319T160000Z
DTEND:20190319T000000Z
SUMMARY:Школа для терапевтов и кардиологов в Иркутске в марте 2019 г
URL;VALUE=URI:/events/SCHOOL/shkola_dlja_terapevtov_i_kardiologov_v_irkutske_v_marte_2019_g
DTSTAMP:20260420T120302Z
UID:69e5ebc669a60
END:VEVENT
END:VCALENDAR