BEGIN:VCALENDAR
VERSION:2.0
PRODID:-//hacksw/handcal//NONSGML v1.0//EN
CALSCALE:GREGORIAN
BEGIN:VEVENT
LOCATION:онлайн
DESCRIPTION:Современные алгоритмы ведения пациента с артериальной гипертонией.

РЕГИСТРАЦИЯ ЗАВЕРШЕНА
DTSTART:20200922T000000Z
DTEND:20200922T000000Z
SUMMARY:Online - Школа для медицинских специалистов.
URL;VALUE=URI:/events/SCHOOL/online_shkola_dlja_meditsinskih_spetsialistov_2020
DTSTAMP:20260420T122518Z
UID:69e5f0fe936f9
END:VEVENT
END:VCALENDAR