BEGIN:VCALENDAR
VERSION:2.0
PRODID:-//hacksw/handcal//NONSGML v1.0//EN
CALSCALE:GREGORIAN
BEGIN:VEVENT
LOCATION:
DESCRIPTION:Онлайн-школа для специалистов здравоохранения.
Аккредитовано НМО - 2 ЗЕТ
DTSTART:20220615T000000Z
DTEND:20220615T000000Z
SUMMARY:Онлайн школа: Квадротерапия ХСН: с чего мы начинаем?
URL;VALUE=URI:/events/SCHOOL/onlajn_shkola_kvadroterapija_hsn_s_chego_my_nachinaem
DTSTAMP:20260420T161658Z
UID:69e6274a082d1
END:VEVENT
END:VCALENDAR