BEGIN:VCALENDAR
VERSION:2.0
PRODID:-//hacksw/handcal//NONSGML v1.0//EN
CALSCALE:GREGORIAN
BEGIN:VEVENT
LOCATION:
DESCRIPTION:Онлайн-школа для специалистов здравоохранения.
Аккредитовано НМО - 2 ЗЕТ
DTSTART:20221116T000000Z
DTEND:20221116T000000Z
SUMMARY:Онлайн-школа: Гиполипидемическая терапия: вчера\, сегодня\, завтра
URL;VALUE=URI:/events/SCHOOL/onlajn_shkola_gipolipidemicheskaja_terapija_vchera_segodnja_zavtra_1611
DTSTAMP:20260420T121914Z
UID:69e5ef9266eb2
END:VEVENT
END:VCALENDAR