BEGIN:VCALENDAR
VERSION:2.0
PRODID:-//hacksw/handcal//NONSGML v1.0//EN
CALSCALE:GREGORIAN
BEGIN:VEVENT
LOCATION:Онлайн
DESCRIPTION:Современные подходы комплексной защиты пожилых пациентов с фибрилляцией предсердий.

Соответствует требованиям для НМО
DTSTART:20210323T000000Z
DTEND:20210323T000000Z
SUMMARY:Онлайн-школа для медицинских специалистов 23 марта
URL;VALUE=URI:/events/SCHOOL/onlajn_shkola_dlja_meditsinskih_spetsialistov_23_marta
DTSTAMP:20260420T140546Z
UID:69e6088acc385
END:VEVENT
END:VCALENDAR