BEGIN:VCALENDAR
VERSION:2.0
PRODID:-//hacksw/handcal//NONSGML v1.0//EN
CALSCALE:GREGORIAN
BEGIN:VEVENT
LOCATION:
DESCRIPTION:Онлайн-школа для специалистов здравоохранения.
Аккредитовано НМО - 2 ЗЕТ

DTSTART:20221019T000000Z
DTEND:20221019T000000Z
SUMMARY:Онлайн школа: Дифференциальный диагноз нарушений ритма
URL;VALUE=URI:/events/SCHOOL/onlajn_shkola_differentsialnyj_diagnoz_narushenij_ritma
DTSTAMP:20260420T121318Z
UID:69e5ee2ea519f
END:VEVENT
END:VCALENDAR