BEGIN:VCALENDAR
VERSION:2.0
PRODID:-//hacksw/handcal//NONSGML v1.0//EN
CALSCALE:GREGORIAN
BEGIN:VEVENT
LOCATION:ул. Лесная\, 15\, конференц-зал отеля Holiday Inn Лесная
DESCRIPTION:Очная школа для специалистов здравоохранения.
МОСКВА
АККРЕДИТОВАНО НМО - 2 ЗЕТ
DTSTART:20230209T160000Z
DTEND:20230209T000000Z
SUMMARY:ОЧНАЯ ШКОЛА. МОСКВА. Современные алгоритмы ведения пациента с артериальной гипертонией
URL;VALUE=URI:/events/SCHOOL/ochnaja_shkola_moskva_sovremennye_algoritmy_vedenija_patsienta_s_arterialnoj_gipertoniej
DTSTAMP:20260420T123233Z
UID:69e5f2b1d2bc9
END:VEVENT
END:VCALENDAR